BEGIN:VCALENDAR
VERSION:2.0
PRODID:-//MZV de Boet - ECPv6.15.20//NONSGML v1.0//EN
CALSCALE:GREGORIAN
METHOD:PUBLISH
X-WR-CALNAME:MZV de Boet
X-ORIGINAL-URL:https://deboetonline.nl
X-WR-CALDESC:Evenementen voor MZV de Boet
REFRESH-INTERVAL;VALUE=DURATION:PT1H
X-Robots-Tag:noindex
X-PUBLISHED-TTL:PT1H
BEGIN:VTIMEZONE
TZID:Europe/Paris
BEGIN:DAYLIGHT
TZOFFSETFROM:+0100
TZOFFSETTO:+0200
TZNAME:CEST
DTSTART:20220327T010000
END:DAYLIGHT
BEGIN:STANDARD
TZOFFSETFROM:+0200
TZOFFSETTO:+0100
TZNAME:CET
DTSTART:20221030T010000
END:STANDARD
BEGIN:DAYLIGHT
TZOFFSETFROM:+0100
TZOFFSETTO:+0200
TZNAME:CEST
DTSTART:20230326T010000
END:DAYLIGHT
BEGIN:STANDARD
TZOFFSETFROM:+0200
TZOFFSETTO:+0100
TZNAME:CET
DTSTART:20231029T010000
END:STANDARD
BEGIN:DAYLIGHT
TZOFFSETFROM:+0100
TZOFFSETTO:+0200
TZNAME:CEST
DTSTART:20240331T010000
END:DAYLIGHT
BEGIN:STANDARD
TZOFFSETFROM:+0200
TZOFFSETTO:+0100
TZNAME:CET
DTSTART:20241027T010000
END:STANDARD
END:VTIMEZONE
BEGIN:VEVENT
DTSTART;VALUE=DATE:20230131
DTEND;VALUE=DATE:20230201
DTSTAMP:20260423T170843
CREATED:20230313T111825Z
LAST-MODIFIED:20230313T162630Z
UID:2128-1675123200-1675209599@deboetonline.nl
SUMMARY:Start zeilcursus
DESCRIPTION:Start zeilcursus.\nTheorielessen in Weteringbrug\, praktijklessen op de Kagerplassen.
URL:https://deboetonline.nl/agenda/start-zeilcursus/
LOCATION:lisserweg 1-a  Weteringbrug\, Lisserweg 1-A\, Weteringbrug\, ZH\, 2156LA\, Nederland
CATEGORIES:zeilcursus
END:VEVENT
END:VCALENDAR