BEGIN:VCALENDAR
VERSION:2.0
PRODID:-//MZV de Boet - ECPv6.15.20//NONSGML v1.0//EN
CALSCALE:GREGORIAN
METHOD:PUBLISH
X-ORIGINAL-URL:https://deboetonline.nl
X-WR-CALDESC:Evenementen voor MZV de Boet
REFRESH-INTERVAL;VALUE=DURATION:PT1H
X-Robots-Tag:noindex
X-PUBLISHED-TTL:PT1H
BEGIN:VTIMEZONE
TZID:Europe/Paris
BEGIN:DAYLIGHT
TZOFFSETFROM:+0100
TZOFFSETTO:+0200
TZNAME:CEST
DTSTART:20240331T010000
END:DAYLIGHT
BEGIN:STANDARD
TZOFFSETFROM:+0200
TZOFFSETTO:+0100
TZNAME:CET
DTSTART:20241027T010000
END:STANDARD
BEGIN:DAYLIGHT
TZOFFSETFROM:+0100
TZOFFSETTO:+0200
TZNAME:CEST
DTSTART:20250330T010000
END:DAYLIGHT
BEGIN:STANDARD
TZOFFSETFROM:+0200
TZOFFSETTO:+0100
TZNAME:CET
DTSTART:20251026T010000
END:STANDARD
BEGIN:DAYLIGHT
TZOFFSETFROM:+0100
TZOFFSETTO:+0200
TZNAME:CEST
DTSTART:20260329T010000
END:DAYLIGHT
BEGIN:STANDARD
TZOFFSETFROM:+0200
TZOFFSETTO:+0100
TZNAME:CET
DTSTART:20261025T010000
END:STANDARD
END:VTIMEZONE
BEGIN:VEVENT
DTSTART;TZID=Europe/Paris:20250111T110000
DTEND;TZID=Europe/Paris:20250111T140000
DTSTAMP:20260420T025917
CREATED:20241022T192150Z
LAST-MODIFIED:20241022T192343Z
UID:2976-1736593200-1736604000@deboetonline.nl
SUMMARY:Nieuwjaarsreceptie 2025
DESCRIPTION:
URL:https://deboetonline.nl/agenda/nieuwjaarsreceptie-2025/
LOCATION:Jachthaven Noordwijk\, van Berckelweg 42\, Noordwijk\, 2203LB\, Nederland
END:VEVENT
END:VCALENDAR